BEGIN:VCALENDAR
VERSION:2.0
PRODID:SchoolNow
CALSCALE:GREGORIAN
BEGIN:VEVENT
UID:459b0f7e-2214-11f0-a21e-0a58a9feac02
DTSTAMP:20250425T203411Z
SUMMARY:Care Mobile\; March - Barrett
LOCATION:Barrett Elementary
URL;VALUE=URI:https://www.steelvalleysd.org/communication/calendar/8008373/
 care-mobile-march
DTSTART:20250428T133000Z
DTEND:20250428T173000Z
END:VEVENT
END:VCALENDAR
