BEGIN:VCALENDAR
VERSION:2.0
PRODID:SchoolNow
CALSCALE:GREGORIAN
BEGIN:VEVENT
UID:7e99b83e-09eb-11f0-a729-0affd589688f
DTSTAMP:20250326T023909Z
SUMMARY:Kennywood School Picnic
URL;VALUE=URI:https://www.steelvalleysd.org/communication/calendar/7773423/
 kennywood-school-picnic
DTSTART;VALUE=DATE:20250603
DTEND;VALUE=DATE:20250604
END:VEVENT
END:VCALENDAR
