BEGIN:VCALENDAR
VERSION:2.0
PRODID:SchoolNow
CALSCALE:GREGORIAN
BEGIN:VEVENT
UID:d2215a9c-04f1-11f0-b32a-0a58a9feac02
DTSTAMP:20250319T184150Z
SUMMARY:Barrett Family Night and Registration Event
LOCATION:Park Elementary
URL;VALUE=URI:https://www.steelvalleysd.org/communication/calendar/7723356/
 kindergarten-registration-clone-clone-clone
DTSTART:20250508T213000Z
DTEND:20250508T233000Z
END:VEVENT
END:VCALENDAR
