BEGIN:VCALENDAR
VERSION:2.0
PRODID:SchoolNow
CALSCALE:GREGORIAN
BEGIN:VEVENT
UID:9ab93840-04f1-11f0-8575-0a58a9feac02
DTSTAMP:20250319T184017Z
SUMMARY:Barrett April 9 Pre-K and Kindergarten Registration Event
LOCATION:Park Elementary
URL;VALUE=URI:https://www.steelvalleysd.org/communication/calendar/7723350/
 kindergarten-registration-clone
DTSTART:20250409T193000Z
DTEND:20250409T203000Z
END:VEVENT
END:VCALENDAR
