BEGIN:VCALENDAR
VERSION:2.0
PRODID:SchoolNow
CALSCALE:GREGORIAN
BEGIN:VEVENT
UID:10bf3ba4-04f0-11f0-aa0e-0afff67e568d
DTSTAMP:20250319T182916Z
SUMMARY:Park Kindergarten Registration Event
LOCATION:Park Elementary
URL;VALUE=URI:https://www.steelvalleysd.org/communication/calendar/7723222/
 kindergarten-registration
DTSTART:20250327T210000Z
DTEND:20250327T230000Z
END:VEVENT
END:VCALENDAR
