BEGIN:VCALENDAR
VERSION:2.0
PRODID:SchoolNow
CALSCALE:GREGORIAN
BEGIN:VEVENT
UID:f5832048-005e-11f0-9ef2-0a58a9feac02
DTSTAMP:20250313T230029Z
SUMMARY:Vaccine Clinic - Pathways to Wellness Program
LOCATION:Steel Valley High School
URL;VALUE=URI:https://www.steelvalleysd.org/communication/calendar/7676630/
 vaccine-clinic-pathways-to-wellness-program-2
DTSTART:20250430T140000Z
DTEND:20250430T160000Z
END:VEVENT
END:VCALENDAR
