BEGIN:VCALENDAR
VERSION:2.0
PRODID:SchoolNow
CALSCALE:GREGORIAN
BEGIN:VEVENT
UID:54450a54-fdbe-11ef-985d-0afff364d519
DTSTAMP:20250310T144624Z
SUMMARY:SV Drama Club presents “All Shook Up!”
LOCATION:HS Auditorium
URL;VALUE=URI:https://www.steelvalleysd.org/communication/calendar/7648589/
 sv-drama-club-presents-all-shook-up-clone
DTSTART:20250315T180000Z
DTEND:20250316T210000Z
END:VEVENT
END:VCALENDAR
