BEGIN:VCALENDAR
VERSION:2.0
PRODID:SchoolNow
CALSCALE:GREGORIAN
BEGIN:VEVENT
UID:ff7e8fcc-fdbd-11ef-9ee5-0205fa4eb2f9
DTSTAMP:20250310T144558Z
SUMMARY:SV Drama Club presents “All Shook Up!”
LOCATION:HS Auditorium
URL;VALUE=URI:https://www.steelvalleysd.org/communication/calendar/7648583/
 sv-drama-club-presents-all-shook-up
DTSTART:20250313T233000Z
DTEND:20250315T023000Z
END:VEVENT
END:VCALENDAR
