BEGIN:VCALENDAR
VERSION:2.0
PRODID:SchoolNow
CALSCALE:GREGORIAN
BEGIN:VEVENT
UID:cade1afe-f3c6-11ef-9df9-0afff3dcfc8f
DTSTAMP:20250225T222100Z
SUMMARY:Pathways to Wellness Immunization Clinic
URL;VALUE=URI:https://www.steelvalleysd.org/communication/calendar/7548416/
 pathways-to-wellness-immunization-clinic
DTSTART:20250227T150000Z
DTEND:20250227T170000Z
END:VEVENT
END:VCALENDAR
