BEGIN:VCALENDAR
VERSION:2.0
PRODID:SchoolNow
CALSCALE:GREGORIAN
BEGIN:VEVENT
UID:773a789a-e8a2-11ef-8064-026923c03cc9
DTSTAMP:20250225T141001Z
SUMMARY:CANCELED TODAY:  SV Immunization Clinic
LOCATION:Steel Valley High School
URL;VALUE=URI:https://www.steelvalleysd.org/communication/calendar/7452905/
 sv-immunization-clinic
DTSTART:20250225T150000Z
DTEND:20250225T170000Z
END:VEVENT
END:VCALENDAR
