BEGIN:VCALENDAR
VERSION:2.0
PRODID:SchoolNow
CALSCALE:GREGORIAN
BEGIN:VEVENT
UID:b4e94282-e593-11ef-9f66-0eb74bea8c9f
DTSTAMP:20250207T204205Z
SUMMARY:Hoagie Sale - Prom Fundraiser
LOCATION:Steel Valley High School
URL;VALUE=URI:https://www.steelvalleysd.org/communication/calendar/7437352/
 hoagie-sale-prom-fundraiser
DTSTART:20250210T120000Z
DTEND:20250225T210000Z
END:VEVENT
END:VCALENDAR
