BEGIN:VCALENDAR
VERSION:2.0
PRODID:SchoolNow
CALSCALE:GREGORIAN
BEGIN:VEVENT
UID:610c56b8-e593-11ef-b67c-0eb74bea8c9f
DTSTAMP:20250207T204549Z
SUMMARY:Last Day for Prom Tickets on Sale
LOCATION:Steel Valley High School
URL;VALUE=URI:https://www.steelvalleysd.org/communication/calendar/7437348/
 last-day-for-prom-tickets-on-sale
DTSTART:20250331T110000Z
DTEND:20250331T210000Z
END:VEVENT
END:VCALENDAR
