BEGIN:VCALENDAR
VERSION:2.0
PRODID:SchoolNow
CALSCALE:GREGORIAN
BEGIN:VEVENT
UID:16622ace-dcca-11ef-b9e2-0affca5437bb
DTSTAMP:20250127T161638Z
SUMMARY:Holidays/No School for Students
LOCATION:Steel Valley School District
URL;VALUE=URI:https://www.steelvalleysd.org/communication/calendar/7380952/
 sv-2023-commencement-clone-clone
DTSTART:20250526T100000Z
DTEND:20250526T200000Z
END:VEVENT
END:VCALENDAR
