BEGIN:VCALENDAR
VERSION:2.0
PRODID:SchoolNow
CALSCALE:GREGORIAN
BEGIN:VEVENT
UID:c33aa7cc-dcc9-11ef-9bf3-0257bbcda8b1
DTSTAMP:20250127T161419Z
SUMMARY:Progress Reports
LOCATION:Steel Valley School District
URL;VALUE=URI:https://www.steelvalleysd.org/communication/calendar/7380946/
 progress-reports
DTSTART:20250501T100000Z
DTEND:20250501T200000Z
END:VEVENT
END:VCALENDAR
