BEGIN:VCALENDAR
VERSION:2.0
PRODID:SchoolNow
CALSCALE:GREGORIAN
BEGIN:VEVENT
UID:7d870f18-dcc9-11ef-a6bf-02a40193950d
DTSTAMP:20250326T020345Z
SUMMARY:Spring Break
LOCATION:Steel Valley School District
URL;VALUE=URI:https://www.steelvalleysd.org/communication/calendar/7380940/
 spring-break
DTSTART:20250417T100000Z
DTEND:20250421T200000Z
END:VEVENT
END:VCALENDAR
