BEGIN:VCALENDAR
VERSION:2.0
PRODID:SchoolNow
CALSCALE:GREGORIAN
BEGIN:VEVENT
UID:16e3e0b0-dcc9-11ef-a3d3-0affca5437bb
DTSTAMP:20250127T160930Z
SUMMARY:Act 80 Day
LOCATION:Steel Valley School District
URL;VALUE=URI:https://www.steelvalleysd.org/communication/calendar/7380932/
 act-80-day
DTSTART:20250416T110000Z
DTEND:20250416T200000Z
END:VEVENT
END:VCALENDAR
