BEGIN:VCALENDAR
VERSION:2.0
PRODID:SchoolNow
CALSCALE:GREGORIAN
BEGIN:VEVENT
UID:77654ba0-dcc8-11ef-aab2-0e6b2bf4e869
DTSTAMP:20250127T160502Z
SUMMARY:Early Dismissal for Students/Staff Prof. Dev.
LOCATION:Steel Valley School District
URL;VALUE=URI:https://www.steelvalleysd.org/communication/calendar/7380925/
 early-dismissal-for-students-staff-prof-dev
DTSTART:20250408T110000Z
DTEND:20250408T190000Z
END:VEVENT
END:VCALENDAR
