BEGIN:VCALENDAR
VERSION:2.0
PRODID:SchoolNow
CALSCALE:GREGORIAN
BEGIN:VEVENT
UID:2730c42a-dcc8-11ef-bc09-0a58a9feac02
DTSTAMP:20250127T160248Z
SUMMARY:Reports Cards
LOCATION:Steel Valley School District
URL;VALUE=URI:https://www.steelvalleysd.org/communication/calendar/7380919/
 reports-cards-clone
DTSTART:20250402T100000Z
DTEND:20250402T190000Z
END:VEVENT
END:VCALENDAR
