BEGIN:VCALENDAR
VERSION:2.0
PRODID:SchoolNow
CALSCALE:GREGORIAN
BEGIN:VEVENT
UID:da4dedc2-dcc7-11ef-ac40-0affca5437bb
DTSTAMP:20250127T160039Z
SUMMARY:Clerical Day/No School for Students
LOCATION:Steel Valley School District
URL;VALUE=URI:https://www.steelvalleysd.org/communication/calendar/7380912/
 progress-reports-clone
DTSTART:20250328T100000Z
DTEND:20250328T200000Z
END:VEVENT
END:VCALENDAR
