BEGIN:VCALENDAR
VERSION:2.0
PRODID:SchoolNow
CALSCALE:GREGORIAN
BEGIN:VEVENT
UID:4f66ab3c-d852-11ef-a8c5-021410d72da1
DTSTAMP:20250121T235242Z
SUMMARY:Wednesday\, January 22 - Flexible Instruction Days (FID)
LOCATION:Steel Valley School District
URL;VALUE=URI:https://www.steelvalleysd.org/communication/calendar/7350381/
 wednesday-january-22-flexible-instruction-days-fid
DTSTART;VALUE=DATE:20250122
DTEND;VALUE=DATE:20250123
END:VEVENT
END:VCALENDAR
