BEGIN:VCALENDAR
VERSION:2.0
PRODID:SchoolNow
CALSCALE:GREGORIAN
BEGIN:VEVENT
UID:138de59e-d852-11ef-8bc2-0a58a9feac02
DTSTAMP:20250121T234729Z
SUMMARY:Monday\, January 20 - MLK Holiday - No School\;
LOCATION:Steel Valley School District
URL;VALUE=URI:https://www.steelvalleysd.org/communication/calendar/7350380/
 monday-january-20-mlk-holiday-no-school
DTSTART;VALUE=DATE:20250120
DTEND;VALUE=DATE:20250121
END:VEVENT
END:VCALENDAR
