BEGIN:VCALENDAR
VERSION:2.0
PRODID:SchoolNow
CALSCALE:GREGORIAN
BEGIN:VEVENT
UID:3d680e52-d27c-11ef-a316-0affc2aee739
DTSTAMP:20250114T133411Z
SUMMARY:Care Mobile\; March - High School
LOCATION:High School
URL;VALUE=URI:https://www.steelvalleysd.org/communication/calendar/7313157/
 care-mobile-march-high-school
DTSTART:20250310T133000Z
DTEND:20250310T180000Z
END:VEVENT
END:VCALENDAR
