BEGIN:VCALENDAR
VERSION:2.0
PRODID:SchoolNow
CALSCALE:GREGORIAN
BEGIN:VEVENT
UID:0252d946-d27c-11ef-b6d6-0a58a9feac02
DTSTAMP:20250114T133232Z
SUMMARY:Care Mobile\; February - High School
LOCATION:High School
URL;VALUE=URI:https://www.steelvalleysd.org/communication/calendar/7313154/
 care-mobile-february-high-school
DTSTART:20250210T143000Z
DTEND:20250210T190000Z
END:VEVENT
END:VCALENDAR
