BEGIN:VCALENDAR
VERSION:2.0
PRODID:SchoolNow
CALSCALE:GREGORIAN
BEGIN:VEVENT
UID:b364a6ac-d27b-11ef-a7f7-0a58a9feac02
DTSTAMP:20250114T133105Z
SUMMARY:Care Mobile\; January - High School
LOCATION:High School
URL;VALUE=URI:https://www.steelvalleysd.org/communication/calendar/7313153/
 care-mobile-january-high-school
DTSTART:20250113T143000Z
DTEND:20250113T190000Z
END:VEVENT
END:VCALENDAR
