BEGIN:VCALENDAR
VERSION:2.0
PRODID:SchoolNow
CALSCALE:GREGORIAN
BEGIN:VEVENT
UID:cdf28ea6-d1f1-11ef-8a1a-0a58a9feac02
DTSTAMP:20250113T210314Z
SUMMARY:Steel Valley 2025 Prom
LOCATION:Stratigos Banquet Centre
URL;VALUE=URI:https://www.steelvalleysd.org/communication/calendar/7309691/
 steel-valley-2025-prom
DTSTART:20250502T220000Z
DTEND:20250503T020000Z
END:VEVENT
END:VCALENDAR
