BEGIN:VCALENDAR
VERSION:2.0
PRODID:SchoolNow
CALSCALE:GREGORIAN
BEGIN:VEVENT
UID:57187526-cb83-11ef-abb6-0a58a9feac02
DTSTAMP:20250105T163749Z
SUMMARY:End of Grading Period
LOCATION:Steel Valley School District
URL;VALUE=URI:https://www.steelvalleysd.org/communication/calendar/7271560/
 end-of-grading-period
DTSTART:20250324T110000Z
DTEND:20250324T200000Z
END:VEVENT
END:VCALENDAR
