BEGIN:VCALENDAR
VERSION:2.0
PRODID:SchoolNow
CALSCALE:GREGORIAN
BEGIN:VEVENT
UID:b9afaed0-cb82-11ef-be5a-0a58a9feac02
DTSTAMP:20250105T163259Z
SUMMARY:Progress Reports
LOCATION:Steel Valley School District
URL;VALUE=URI:https://www.steelvalleysd.org/communication/calendar/7271554/
 progress-reports
DTSTART:20250219T110000Z
DTEND:20250219T210000Z
END:VEVENT
END:VCALENDAR
