BEGIN:VCALENDAR
VERSION:2.0
PRODID:SchoolNow
CALSCALE:GREGORIAN
BEGIN:VEVENT
UID:60c9783c-cb82-11ef-9bbb-0ed8f5fabbf3
DTSTAMP:20250217T171435Z
SUMMARY:Early Dismissal for Students
LOCATION:Steel Valley School District
URL;VALUE=URI:https://www.steelvalleysd.org/communication/calendar/7271542/
 early-dismissal-for-students
DTSTART:20250225T120000Z
DTEND:20250225T200000Z
END:VEVENT
END:VCALENDAR
