BEGIN:VCALENDAR
VERSION:2.0
PRODID:SchoolNow
CALSCALE:GREGORIAN
BEGIN:VEVENT
UID:ab2d69c0-cb81-11ef-8125-0a58a9feac02
DTSTAMP:20250105T162525Z
SUMMARY:Presidents' Day
LOCATION:Steel Valley School District
URL;VALUE=URI:https://www.steelvalleysd.org/communication/calendar/7271541/
 presidents-day
DTSTART:20250217T120000Z
DTEND:20250217T210000Z
END:VEVENT
END:VCALENDAR
