BEGIN:VCALENDAR
VERSION:2.0
PRODID:SchoolNow
CALSCALE:GREGORIAN
BEGIN:VEVENT
UID:8111d022-bc8b-11ef-8e8d-0a58a9feac02
DTSTAMP:20241217T152802Z
SUMMARY:Teacher Clerical Day
LOCATION:Steel Valley School District
URL;VALUE=URI:https://www.steelvalleysd.org/communication/calendar/7186350/
 teacher-clerical-day
DTSTART:20250117T120000Z
DTEND:20250117T210000Z
END:VEVENT
END:VCALENDAR
