BEGIN:VCALENDAR
VERSION:2.0
PRODID:SchoolNow
CALSCALE:GREGORIAN
BEGIN:VEVENT
UID:3498ecb2-bc8b-11ef-9b1e-02a51d0d39ed
DTSTAMP:20241217T152554Z
SUMMARY:End of Grading Period
LOCATION:Steel Valley School District
URL;VALUE=URI:https://www.steelvalleysd.org/communication/calendar/7186345/
 end-of-grading-period
DTSTART:20250115T120000Z
DTEND:20250115T210000Z
END:VEVENT
END:VCALENDAR
