BEGIN:VCALENDAR
VERSION:2.0
PRODID:SchoolNow
CALSCALE:GREGORIAN
BEGIN:VEVENT
UID:204c7e3a-bbd3-11ef-a7ef-0a58a9feac02
DTSTAMP:20241216T173019Z
SUMMARY:Early Dismissal
URL;VALUE=URI:https://www.steelvalleysd.org/communication/calendar/7181436/
 early-dismissal
DTSTART:20241220T162500Z
DTEND:20241220T200000Z
END:VEVENT
END:VCALENDAR
