BEGIN:VCALENDAR
VERSION:2.0
PRODID:SchoolNow
CALSCALE:GREGORIAN
BEGIN:VEVENT
UID:7c410b24-b706-11ef-8f96-0a58a9feac02
DTSTAMP:20241210T145315Z
SUMMARY:Winter Concert
LOCATION:High School Auditorium
URL;VALUE=URI:https://www.steelvalleysd.org/communication/calendar/7149713/
 winter-concert
DTSTART:20241213T233000Z
DTEND:20241214T023000Z
END:VEVENT
END:VCALENDAR
