BEGIN:VCALENDAR
VERSION:2.0
PRODID:SchoolNow
CALSCALE:GREGORIAN
BEGIN:VEVENT
UID:80ad1a88-b669-11ef-9be3-0e8f672b64dd
DTSTAMP:20250813T202858Z
SUMMARY:Regular Board Meeting - August
LOCATION:High School Library
URL;VALUE=URI:https://www.steelvalleysd.org/communication/calendar/7145798/
 regular-board-meeting-august
DTSTART:20250814T230000Z
DTEND:20250815T000000Z
ATTACH;FILENAME=08-14-25 Regular agenda  .pdf;FMTTYPE=application/pdf:https
 ://campussuite-storage.s3.amazonaws.com/prod/1074787/6763d576-3536-11e7-9e
 05-124f7febbf4a/2992833/127208fc-7884-11f0-b845-0afff137d3ad/file/08-14-25
  Regular agenda  .pdf
END:VEVENT
END:VCALENDAR
