BEGIN:VCALENDAR
VERSION:2.0
PRODID:SchoolNow
CALSCALE:GREGORIAN
BEGIN:VEVENT
UID:bd52c966-b668-11ef-90e1-0a58a9feac02
DTSTAMP:20250226T211931Z
SUMMARY:Regular Board Meeting - February
LOCATION:High School Library
URL;VALUE=URI:https://www.steelvalleysd.org/communication/calendar/7145789/
 regular-board-meeting-february
DTSTART:20250228T000000Z
DTEND:20250228T010000Z
ATTACH;FILENAME="February 27, 2025 Regular Agenda.pdf";FMTTYPE=application/
 pdf:https://campussuite-storage.s3.amazonaws.com/prod/1074787/6763d576-353
 6-11e7-9e05-124f7febbf4a/2920134/594da5c8-f487-11ef-83d5-0a58a9feac02/file
 /February 27\, 2025 Regular Agenda.pdf
END:VEVENT
END:VCALENDAR
