BEGIN:VCALENDAR
VERSION:2.0
PRODID:SchoolNow
CALSCALE:GREGORIAN
BEGIN:VEVENT
UID:a3d2a772-b668-11ef-9d64-0afffa0ec547
DTSTAMP:20250129T220833Z
SUMMARY:Regular Board Meeting - January
LOCATION:High School Library
URL;VALUE=URI:https://www.steelvalleysd.org/communication/calendar/7145788/
 regular-board-meeting-january
DTSTART:20250131T000000Z
DTEND:20250131T010000Z
ATTACH;FILENAME="January 30, 2025 Regular Agenda.pdf";FMTTYPE=application/p
 df:https://campussuite-storage.s3.amazonaws.com/prod/1074787/6763d576-3536
 -11e7-9e05-124f7febbf4a/2908385/8f066f5c-de8d-11ef-a8a5-0a58a9feac02/file/
 January 30\, 2025 Regular Agenda.pdf
END:VEVENT
END:VCALENDAR
