BEGIN:VCALENDAR
VERSION:2.0
PRODID:SchoolNow
CALSCALE:GREGORIAN
BEGIN:VEVENT
UID:4f10afb8-b668-11ef-b208-0a58a9feac02
DTSTAMP:20251201T210058Z
SUMMARY:Board Worksession - December (Reorganization)
LOCATION:High School Library
URL;VALUE=URI:https://www.steelvalleysd.org/communication/calendar/7145787/
 board-worksession-december-reorganization
DTSTART:20251203T003000Z
DTEND:20251203T013000Z
ATTACH;FILENAME=12-02-25 Reorganization Worksession Agenda .pdf;FMTTYPE=app
 lication/pdf:https://campussuite-storage.s3.amazonaws.com/prod/1074787/676
 3d576-3536-11e7-9e05-124f7febbf4a/3045136/ce568c12-cef8-11f0-b7d3-0a58a9fe
 ac02/file/12-02-25 Reorganization Worksession Agenda .pdf
END:VEVENT
END:VCALENDAR
