BEGIN:VCALENDAR
VERSION:2.0
PRODID:SchoolNow
CALSCALE:GREGORIAN
BEGIN:VEVENT
UID:05feaab4-b668-11ef-b935-0a58a9feac02
DTSTAMP:20250919T213520Z
SUMMARY:Board Worksession - September
LOCATION:High School Library
URL;VALUE=URI:https://www.steelvalleysd.org/communication/calendar/7145784/
 board-worksession-september
DTSTART:20250922T233000Z
DTEND:20250923T003000Z
ATTACH;FILENAME=09-22-25 -  Worksession Agenda .pdf;FMTTYPE=application/pdf
 :https://campussuite-storage.s3.amazonaws.com/prod/1074787/6763d576-3536-1
 1e7-9e05-124f7febbf4a/3009575/79fb0828-95a0-11f0-a521-0a58a9feac02/file/09
 -22-25 -  Worksession Agenda .pdf
END:VEVENT
END:VCALENDAR
