BEGIN:VCALENDAR
VERSION:2.0
PRODID:SchoolNow
CALSCALE:GREGORIAN
BEGIN:VEVENT
UID:8566fe88-b667-11ef-b40a-0a58a9feac02
DTSTAMP:20250221T202839Z
SUMMARY:Board Worksession - February
LOCATION:High School Library
URL;VALUE=URI:https://www.steelvalleysd.org/communication/calendar/7145778/
 board-worksession-february
DTSTART:20250225T003000Z
DTEND:20250225T013000Z
ATTACH;FILENAME="February 24, 2025 Worksession Agenda.pdf";FMTTYPE=applicat
 ion/pdf:https://campussuite-storage.s3.amazonaws.com/prod/1074787/6763d576
 -3536-11e7-9e05-124f7febbf4a/2918212/6813d990-f092-11ef-87c9-0a58a9feac02/
 file/February 24\, 2025 Worksession Agenda.pdf
END:VEVENT
END:VCALENDAR
