BEGIN:VCALENDAR
VERSION:2.0
PRODID:SchoolNow
CALSCALE:GREGORIAN
BEGIN:VEVENT
UID:6b00adfa-b667-11ef-9abf-0afff505953b
DTSTAMP:20250124T221254Z
SUMMARY:Board Worksession - January
LOCATION:High School Library
URL;VALUE=URI:https://www.steelvalleysd.org/communication/calendar/7145777/
 board-worksession-january
DTSTART:20250128T003000Z
DTEND:20250128T013000Z
ATTACH;FILENAME="January 27, 2025 Worksession Agenda.pdf";FMTTYPE=applicati
 on/pdf:https://campussuite-storage.s3.amazonaws.com/prod/1074787/6763d576-
 3536-11e7-9e05-124f7febbf4a/2907043/57b22460-daa0-11ef-ba1d-0a58a9feac02/f
 ile/January 27\, 2025 Worksession Agenda.pdf
END:VEVENT
END:VCALENDAR
