BEGIN:VCALENDAR
VERSION:2.0
PRODID:SchoolNow
CALSCALE:GREGORIAN
BEGIN:VEVENT
UID:3cd6bf5e-b339-11ef-82ca-0a58a9feac02
DTSTAMP:20241205T184628Z
SUMMARY:The Salvation Army's Christmas Day Dinners
URL;VALUE=URI:https://www.steelvalleysd.org/communication/calendar/7126140/
 christmas-day-dinners-at-the-university-of-pittsburgh
DTSTART;VALUE=DATE:20241223
DTEND;VALUE=DATE:20241225
ATTACH;FILENAME=Christmas Day Dinners at Pitt.pdf;FMTTYPE=application/pdf:h
 ttps://campussuite-storage.s3.amazonaws.com/prod/1074787/6763d576-3536-11e
 7-9e05-124f7febbf4a/2887401/91e8655c-b338-11ef-974d-0e67d7892de7/file/Chri
 stmas Day Dinners at Pitt.pdf
END:VEVENT
END:VCALENDAR
