BEGIN:VCALENDAR
VERSION:2.0
PRODID:SchoolNow
CALSCALE:GREGORIAN
BEGIN:VEVENT
UID:da08450c-ac38-11ef-9756-0a58a9feac02
DTSTAMP:20241126T205604Z
SUMMARY:School Resumes
LOCATION:Steel Valley School District
URL;VALUE=URI:https://www.steelvalleysd.org/communication/calendar/7084022/
 school-resumes
DTSTART:20250106T120000Z
DTEND:20250106T210000Z
END:VEVENT
END:VCALENDAR
