BEGIN:VCALENDAR
VERSION:2.0
PRODID:SchoolNow
CALSCALE:GREGORIAN
BEGIN:VEVENT
UID:d12a2a2e-a6fa-11ef-a50d-0a58a9feac02
DTSTAMP:20241120T044925Z
SUMMARY:Early Dismissal for Students
LOCATION:Steel Valley School District
URL;VALUE=URI:https://www.steelvalleysd.org/communication/calendar/7050606/
 early-dismissal-for-students
DTSTART:20241127T120000Z
DTEND:20241127T200000Z
END:VEVENT
END:VCALENDAR
