BEGIN:VCALENDAR
VERSION:2.0
PRODID:SchoolNow
CALSCALE:GREGORIAN
BEGIN:VEVENT
UID:834350ec-a051-11ef-8d0a-0e9351025f29
DTSTAMP:20241115T162730Z
SUMMARY:WPIAL Football Playoff Game with a Link to watch
LOCATION:West Mifflin High School
URL;VALUE=URI:https://www.steelvalleysd.org/communication/calendar/7001196/
 wpial-football-playoff-game
DTSTART:20241116T000000Z
DTEND:20241116T030000Z
END:VEVENT
END:VCALENDAR
