BEGIN:VCALENDAR
VERSION:2.0
PRODID:SchoolNow
CALSCALE:GREGORIAN
BEGIN:VEVENT
UID:49238cda-9cb7-11ef-a01b-0a58a9feac02
DTSTAMP:20241107T032049Z
SUMMARY:Progress Reports
LOCATION:Steel Valley School District
URL;VALUE=URI:https://www.steelvalleysd.org/communication/calendar/6973685/
 progress-reports
DTSTART:20241126T110000Z
DTEND:20241126T200000Z
END:VEVENT
END:VCALENDAR
