BEGIN:VCALENDAR
VERSION:2.0
PRODID:SchoolNow
CALSCALE:GREGORIAN
BEGIN:VEVENT
UID:0c050eca-9cab-11ef-8ade-0a58a9feac02
DTSTAMP:20241107T174020Z
SUMMARY:WPIAL Football Playoff Game
LOCATION:Moon Area Senior High School\, Stadium (Moon Twp\, PA)
URL;VALUE=URI:https://www.steelvalleysd.org/communication/calendar/6973666/
 wpial-football-playoff
DTSTART:20241109T000000Z
DTEND:20241109T030000Z
END:VEVENT
END:VCALENDAR
