BEGIN:VCALENDAR
VERSION:2.0
PRODID:SchoolNow
CALSCALE:GREGORIAN
BEGIN:VEVENT
UID:09c0ab1c-9ac9-11ef-bbe2-0a58a9feac02
DTSTAMP:20241105T041928Z
SUMMARY:Elementary Open House  (Evening)
LOCATION:Park Elementary/Barrett Elementary
URL;VALUE=URI:https://www.steelvalleysd.org/communication/calendar/6957131/
 elementary-open-house-evening
DTSTART:20241107T220000Z
DTEND:20241108T010000Z
END:VEVENT
END:VCALENDAR
