BEGIN:VCALENDAR
VERSION:2.0
PRODID:SchoolNow
CALSCALE:GREGORIAN
BEGIN:VEVENT
UID:d9ff8f2e-9ac8-11ef-9345-0a58a9feac02
DTSTAMP:20241105T041911Z
SUMMARY:Elementary  Open House  (Afternoon)
LOCATION:Park Elementary/Barrett Elementary
URL;VALUE=URI:https://www.steelvalleysd.org/communication/calendar/6957130/
 elementary-open-house-afternoon
DTSTART:20241107T170000Z
DTEND:20241107T200000Z
END:VEVENT
END:VCALENDAR
