BEGIN:VCALENDAR
VERSION:2.0
PRODID:SchoolNow
CALSCALE:GREGORIAN
BEGIN:VEVENT
UID:ecef799c-9ac7-11ef-b915-0e451eb02111
DTSTAMP:20241104T161453Z
SUMMARY:Middle School/High School Open House (Evening)
LOCATION:Steel Valley High School/Steel Valley Middle School
URL;VALUE=URI:https://www.steelvalleysd.org/communication/calendar/6957125/
 middle-school-high-school-open-house-evening
DTSTART:20241106T220000Z
DTEND:20241107T010000Z
END:VEVENT
END:VCALENDAR
