BEGIN:VCALENDAR
VERSION:2.0
PRODID:SchoolNow
CALSCALE:GREGORIAN
BEGIN:VEVENT
UID:ec561336-955b-11ef-89e4-02711b7c638f
DTSTAMP:20241028T184548Z
SUMMARY:Tickets: Football-Boys Varsity  Friday\, November 1st
URL;VALUE=URI:https://www.steelvalleysd.org/communication/calendar/6914685/
 tickets-football-boys-varsity-friday-november-1st
DTSTART:20241028T183200Z
DTEND:20241101T200000Z
END:VEVENT
END:VCALENDAR
